BEGIN:VCALENDAR
VERSION:2.0
PRODID:-//eventon.com NONSGML v1.0//EN
CALSCALE:GREGORIAN
METHOD:PUBLISH
BEGIN:VEVENT
UID:69ea18bed5640
DTSTAMP:20260423T130358Z
DTSTART:20260701
DTEND:20260702
LOCATION:Athens (Greece)
SUMMARY:ECOTROPHELIA National Competition 2026
DESCRIPTION:ECOTROPHELIA National Competition 2026 ECOTROPHELIA National Co
 mpetition 2026\nhttps://excel4med.eu/events-directory/ecotrophelia-national
 -competition-2026/
URL:https://excel4med.eu/events-directory/ecotrophelia-national-competition-2026/
END:VEVENT
END:VCALENDAR