BEGIN:VCALENDAR
VERSION:2.0
PRODID:-//eventon.com NONSGML v1.0//EN
CALSCALE:GREGORIAN
METHOD:PUBLISH
BEGIN:VEVENT
UID:69ea197cec53f
DTSTAMP:20260423T130708Z
DTSTART:20260417
DTEND:20260418
LOCATION:Malta Fairs &amp; Conventions Centre\,  Ta’ Qali (Malta)
SUMMARY:Malta AgriFair 2026
DESCRIPTION:Malta AgriFair 2026\nhttps://excel4med.eu/events-directory/malt
 a-agrifair-2026-2/
URL:https://excel4med.eu/events-directory/malta-agrifair-2026-2/
END:VEVENT
END:VCALENDAR