BEGIN:VCALENDAR
VERSION:2.0
PRODID:-//eventon.com NONSGML v1.0//EN
CALSCALE:GREGORIAN
METHOD:PUBLISH
BEGIN:VEVENT
UID:69ea18bed38cc
DTSTAMP:20260423T130358Z
DTSTART:20260422
DTEND:20260423
LOCATION:Agricultural University of Athens (Greece)
SUMMARY:Seminar “Writing and participating in funded research programmes”
DESCRIPTION:On 22 April 2026\,  EXCEL4MED took part in an interactive sess
 ion hosted by InnovinAgri – Office of Technology Transfer &amp; Entrepre
 neurship at the Agricultural University of Athens. The session\,  titled
 “Writing and participating in funded research programmes”\,  gathered
  students and early-career researchers interested in stepping into the worl
 d of EU research projects. Our partner Thanos Karvounis[..]\nhttps://excel4
 med.eu/events-directory/seminar-writing-and-participating-in-funded-researc
 h-programmes/
URL:https://excel4med.eu/events-directory/seminar-writing-and-participating-in-funded-research-programmes/
END:VEVENT
END:VCALENDAR