BEGIN:VCALENDAR
VERSION:2.0
PRODID:-//eventon.com NONSGML v1.0//EN
CALSCALE:GREGORIAN
METHOD:PUBLISH
BEGIN:VEVENT
UID:69ea18dcc2d74
DTSTAMP:20260423T130428Z
DTSTART:20260415
DTEND:20260416
LOCATION:KU Leuven Ghent Campus (Belgium)
SUMMARY:14th biennial FOODSIM'2026
DESCRIPTION:EXCEL4MED was presented during Session V of the FOODSIM 2026
 \,  held on 15 April 2026 at KU Leuven Ghent Campus (Belgium). Our coordi
 nator\,  Assoc. Prof. Vasilis Valdramidis (National and Kapodistrian Univer
 sity of Athens)\,  shared the main objectives and ongoing work of EXCEL4ME
 D with an international audience of researchers and industry professionals
 .\nhttps://excel4med.eu/events-directory/14th-biennial-foodsim2026/
URL:https://excel4med.eu/events-directory/14th-biennial-foodsim2026/
END:VEVENT
END:VCALENDAR