BEGIN:VCALENDAR
VERSION:2.0
PRODID:-//eventon.com NONSGML v1.0//EN
CALSCALE:GREGORIAN
METHOD:PUBLISH
BEGIN:VEVENT
UID:69ea1add23cad
DTSTAMP:20260423T131301Z
DTSTART:20260401
DTEND:20260402
LOCATION:Agricultural University of Athens (Greece)
SUMMARY:TALLHEDA project workshop
DESCRIPTION:EXCEL4MED took part in the workshop “Digital Transformation
  in Agriculture: Networks of Knowledge and Innovation”\,  organised by th
 e TALLHEDA project and hosted at the Agricultural University of Athens 
 on 1 April 2026. The workshop created a space for meaningful exchange on ho
 w digital tools\,  collaboration and knowledge-sharing networks can suppor
 t the transition towards more sustainable and resilient agricultural syst
 ems.[..]\nhttps://excel4med.eu/events-directory/tallheda-project-workshop/
URL:https://excel4med.eu/events-directory/tallheda-project-workshop/
END:VEVENT
END:VCALENDAR